BEGIN:VCALENDAR
VERSION:2.0
PRODID:-//Aftonstjärnan - ECPv6.15.20//NONSGML v1.0//EN
CALSCALE:GREGORIAN
METHOD:PUBLISH
X-WR-CALNAME:Aftonstjärnan
X-ORIGINAL-URL:https://aftonstjarnan.se
X-WR-CALDESC:Händelser för Aftonstjärnan
REFRESH-INTERVAL;VALUE=DURATION:PT1H
X-Robots-Tag:noindex
X-PUBLISHED-TTL:PT1H
BEGIN:VTIMEZONE
TZID:Europe/Stockholm
BEGIN:DAYLIGHT
TZOFFSETFROM:+0100
TZOFFSETTO:+0200
TZNAME:CEST
DTSTART:20250330T010000
END:DAYLIGHT
BEGIN:STANDARD
TZOFFSETFROM:+0200
TZOFFSETTO:+0100
TZNAME:CET
DTSTART:20251026T010000
END:STANDARD
BEGIN:DAYLIGHT
TZOFFSETFROM:+0100
TZOFFSETTO:+0200
TZNAME:CEST
DTSTART:20260329T010000
END:DAYLIGHT
BEGIN:STANDARD
TZOFFSETFROM:+0200
TZOFFSETTO:+0100
TZNAME:CET
DTSTART:20261025T010000
END:STANDARD
BEGIN:DAYLIGHT
TZOFFSETFROM:+0100
TZOFFSETTO:+0200
TZNAME:CEST
DTSTART:20270328T010000
END:DAYLIGHT
BEGIN:STANDARD
TZOFFSETFROM:+0200
TZOFFSETTO:+0100
TZNAME:CET
DTSTART:20271031T010000
END:STANDARD
END:VTIMEZONE
BEGIN:VEVENT
DTSTART;TZID=Europe/Stockholm:20260503T120000
DTEND;TZID=Europe/Stockholm:20260503T160000
DTSTAMP:20260424T102131
CREATED:20251121T171528Z
LAST-MODIFIED:20260307T164801Z
UID:10001260-1777809600-1777824000@aftonstjarnan.se
SUMMARY:Keramikverkstad\, Märta Proppmätt och Tafti - resan genom öknen
DESCRIPTION:En söndag i månaden bjuder Aftonstjärnan in till bio och verkstäder för barn och deras vuxna. I kreativa workshops utforskar vi olika material och fördjupar oss i olika teman med hjälp av bl.a. dockteater\, film\, skapande och konstruktion. \nPROGRAM \n12.00-15.00 Keramikverkstad\nKom och skapa fritt med lera och låta fantasin bestämma formen. Verkstaden hålls av Gülbin Kulbay som är en svensk- turkisk konstnär\, arkeolog och pedagog i Göteborg. Vi provar\, bygger och skapar tillsammans. Alla är välkomna. Drop-in. Fri entré. \n\n13.00-13.30 Märta Proppmätt\nGuldfisken Märta Proppmätt hamnar ofta i en situation där hennes hunger försätter henne i ett dilemma. \n14.00-15.20 Tafti – resan genom öknen\nDen lilla surikaten Tafiti ger sig ut på en farofylld resa när hans morfar blivit biten av en giftorm. Målet är att i kullarna bortom öknen hitta ett motgift.
URL:https://aftonstjarnan.se/event/kreativ-verkstad-och-barnfilm-maj/
LOCATION:Aftonstjärnan\, Plåtslagaregatan 2\, Göteborg\, Sverige
CATEGORIES:Barnfilm,Barnverkstad
ATTACH;FMTTYPE=image/png:https://aftonstjarnan.se/wp-content/uploads/2025/11/barn-maj.png
ORGANIZER;CN="Aftonstj%C3%A4rnan":MAILTO:info@aftonstjarnan.se
END:VEVENT
END:VCALENDAR