BEGIN:VCALENDAR
VERSION:2.0
PRODID:-//Aftonstjärnan - ECPv6.15.20//NONSGML v1.0//EN
CALSCALE:GREGORIAN
METHOD:PUBLISH
X-ORIGINAL-URL:https://aftonstjarnan.se
X-WR-CALDESC:Händelser för Aftonstjärnan
REFRESH-INTERVAL;VALUE=DURATION:PT1H
X-Robots-Tag:noindex
X-PUBLISHED-TTL:PT1H
BEGIN:VTIMEZONE
TZID:Europe/Stockholm
BEGIN:DAYLIGHT
TZOFFSETFROM:+0100
TZOFFSETTO:+0200
TZNAME:CEST
DTSTART:20250330T010000
END:DAYLIGHT
BEGIN:STANDARD
TZOFFSETFROM:+0200
TZOFFSETTO:+0100
TZNAME:CET
DTSTART:20251026T010000
END:STANDARD
BEGIN:DAYLIGHT
TZOFFSETFROM:+0100
TZOFFSETTO:+0200
TZNAME:CEST
DTSTART:20260329T010000
END:DAYLIGHT
BEGIN:STANDARD
TZOFFSETFROM:+0200
TZOFFSETTO:+0100
TZNAME:CET
DTSTART:20261025T010000
END:STANDARD
BEGIN:DAYLIGHT
TZOFFSETFROM:+0100
TZOFFSETTO:+0200
TZNAME:CEST
DTSTART:20270328T010000
END:DAYLIGHT
BEGIN:STANDARD
TZOFFSETFROM:+0200
TZOFFSETTO:+0100
TZNAME:CET
DTSTART:20271031T010000
END:STANDARD
END:VTIMEZONE
BEGIN:VEVENT
DTSTART;TZID=Europe/Stockholm:20260224T120000
DTEND;TZID=Europe/Stockholm:20260224T135000
DTSTAMP:20260425T162401
CREATED:20251207T181138Z
LAST-MODIFIED:20260203T122512Z
UID:10001273-1771934400-1771941000@aftonstjarnan.se
SUMMARY:Grannfejden
DESCRIPTION:Efter en pinsam händelse på sociala medier återvänder influencern Hanna från storstan till sin värmländska hemstad. \n\nHon flyttar in hos sin syster Emma som jobbar på kommunen och som fått det ärofyllda uppdraget att få den nyinflyttade ex-statsministern Stefan Carlsson\, som precis flyttat in i sin nya gård\, att trivas och skapa fin PR för orten. När Carlsson får problem med den egensinnige grannen Harry Flodman\, får Emma till uppgift att på ett smidigt sätt få honom att flytta. Trots Flodmans egenheter och ovanor\, och minst sagt stökiga lilla torp med stinkande utedass och gårdsförsäljning av hembränt\, så tvekar inte Hanna på vilken sida hon står på i den infekterade konflikten. Se Ida Hallquist\, Robert Gustavsson\, Tuva Novotny\, Kjell Bergqvist och Ia Langhammer i denna feelgood om äkta vänskap och att våga stå upp för vad man tror på.
URL:https://aftonstjarnan.se/event/grannfejden/2026-02-24/1/
LOCATION:Aftonstjärnan\, Plåtslagaregatan 2\, Göteborg\, Sverige
CATEGORIES:Film
ATTACH;FMTTYPE=image/png:https://aftonstjarnan.se/wp-content/uploads/2025/12/grannfejden-987x555-1.png
END:VEVENT
BEGIN:VEVENT
DTSTART;TZID=Europe/Stockholm:20260224T193000
DTEND;TZID=Europe/Stockholm:20260224T212000
DTSTAMP:20260425T162401
CREATED:20251207T181138Z
LAST-MODIFIED:20260203T122512Z
UID:10001274-1771961400-1771968000@aftonstjarnan.se
SUMMARY:Grannfejden
DESCRIPTION:Efter en pinsam händelse på sociala medier återvänder influencern Hanna från storstan till sin värmländska hemstad. \n\nHon flyttar in hos sin syster Emma som jobbar på kommunen och som fått det ärofyllda uppdraget att få den nyinflyttade ex-statsministern Stefan Carlsson\, som precis flyttat in i sin nya gård\, att trivas och skapa fin PR för orten. När Carlsson får problem med den egensinnige grannen Harry Flodman\, får Emma till uppgift att på ett smidigt sätt få honom att flytta. Trots Flodmans egenheter och ovanor\, och minst sagt stökiga lilla torp med stinkande utedass och gårdsförsäljning av hembränt\, så tvekar inte Hanna på vilken sida hon står på i den infekterade konflikten. Se Ida Hallquist\, Robert Gustavsson\, Tuva Novotny\, Kjell Bergqvist och Ia Langhammer i denna feelgood om äkta vänskap och att våga stå upp för vad man tror på.
URL:https://aftonstjarnan.se/event/grannfejden/2026-02-24/2/
LOCATION:Aftonstjärnan\, Plåtslagaregatan 2\, Göteborg\, Sverige
CATEGORIES:Film
ATTACH;FMTTYPE=image/png:https://aftonstjarnan.se/wp-content/uploads/2025/12/grannfejden-987x555-1.png
END:VEVENT
END:VCALENDAR