BEGIN:VCALENDAR
VERSION:2.0
PRODID:-//Aftonstjärnan - ECPv6.15.20//NONSGML v1.0//EN
CALSCALE:GREGORIAN
METHOD:PUBLISH
X-ORIGINAL-URL:https://aftonstjarnan.se
X-WR-CALDESC:Händelser för Aftonstjärnan
REFRESH-INTERVAL;VALUE=DURATION:PT1H
X-Robots-Tag:noindex
X-PUBLISHED-TTL:PT1H
BEGIN:VTIMEZONE
TZID:Europe/Stockholm
BEGIN:DAYLIGHT
TZOFFSETFROM:+0100
TZOFFSETTO:+0200
TZNAME:CEST
DTSTART:20250330T010000
END:DAYLIGHT
BEGIN:STANDARD
TZOFFSETFROM:+0200
TZOFFSETTO:+0100
TZNAME:CET
DTSTART:20251026T010000
END:STANDARD
BEGIN:DAYLIGHT
TZOFFSETFROM:+0100
TZOFFSETTO:+0200
TZNAME:CEST
DTSTART:20260329T010000
END:DAYLIGHT
BEGIN:STANDARD
TZOFFSETFROM:+0200
TZOFFSETTO:+0100
TZNAME:CET
DTSTART:20261025T010000
END:STANDARD
BEGIN:DAYLIGHT
TZOFFSETFROM:+0100
TZOFFSETTO:+0200
TZNAME:CEST
DTSTART:20270328T010000
END:DAYLIGHT
BEGIN:STANDARD
TZOFFSETFROM:+0200
TZOFFSETTO:+0100
TZNAME:CET
DTSTART:20271031T010000
END:STANDARD
END:VTIMEZONE
BEGIN:VEVENT
DTSTART;TZID=Europe/Stockholm:20260302T193000
DTEND;TZID=Europe/Stockholm:20260302T210000
DTSTAMP:20260425T054718
CREATED:20251207T181430Z
LAST-MODIFIED:20260203T122548Z
UID:10001275-1772479800-1772485200@aftonstjarnan.se
SUMMARY:Hind Rajab – rösten från Gaza
DESCRIPTION:Den 29 januari 2024 tar volontärer vid Röda Halvmånen emot ett nödsamtal från Gaza. I andra änden finns en sexårig flicka\, instängd i en bil under intensiv beskjutning. \n\nHon är ensam kvar som enda överlevare. Operatörerna gör allt för att hålla henne kvar i samtalet\, samtidigt som de kämpar för att få fram en ambulans. Hennes namn var Hind Rajab. \nHind Rajabs röst är ett intensivt och omskakande drama baserat på verkliga händelser och det autentiska nödsamtalet till Palestinska Röda Halvmånen. Filmen är regisserad av Oscarsnominerade regissören Kaouther Ben Hania och belönades med Grand Jury Prize vid Venedigs filmfestival 2025 och öppnade Gaza International Women’s Film Festival. Som exekutiva producenter medverkar några av filmvärldens mest uppmärksammade namn\, däribland Brad Pitt\, Joaquin Phoenix\, Rooney Mara och Jonathan Glazer.
URL:https://aftonstjarnan.se/event/hind-rajab-rosten-fran-gaza/
LOCATION:Aftonstjärnan\, Plåtslagaregatan 2\, Göteborg\, Sverige
CATEGORIES:Film
ATTACH;FMTTYPE=image/png:https://aftonstjarnan.se/wp-content/uploads/2025/12/hind-rajab-987x555-1.png
END:VEVENT
END:VCALENDAR