BEGIN:VCALENDAR
VERSION:2.0
PRODID:-//Aftonstjärnan - ECPv6.15.20//NONSGML v1.0//EN
CALSCALE:GREGORIAN
METHOD:PUBLISH
X-ORIGINAL-URL:https://aftonstjarnan.se
X-WR-CALDESC:Händelser för Aftonstjärnan
REFRESH-INTERVAL;VALUE=DURATION:PT1H
X-Robots-Tag:noindex
X-PUBLISHED-TTL:PT1H
BEGIN:VTIMEZONE
TZID:Europe/Stockholm
BEGIN:DAYLIGHT
TZOFFSETFROM:+0100
TZOFFSETTO:+0200
TZNAME:CEST
DTSTART:20250330T010000
END:DAYLIGHT
BEGIN:STANDARD
TZOFFSETFROM:+0200
TZOFFSETTO:+0100
TZNAME:CET
DTSTART:20251026T010000
END:STANDARD
BEGIN:DAYLIGHT
TZOFFSETFROM:+0100
TZOFFSETTO:+0200
TZNAME:CEST
DTSTART:20260329T010000
END:DAYLIGHT
BEGIN:STANDARD
TZOFFSETFROM:+0200
TZOFFSETTO:+0100
TZNAME:CET
DTSTART:20261025T010000
END:STANDARD
BEGIN:DAYLIGHT
TZOFFSETFROM:+0100
TZOFFSETTO:+0200
TZNAME:CEST
DTSTART:20270328T010000
END:DAYLIGHT
BEGIN:STANDARD
TZOFFSETFROM:+0200
TZOFFSETTO:+0100
TZNAME:CET
DTSTART:20271031T010000
END:STANDARD
END:VTIMEZONE
BEGIN:VEVENT
DTSTART;TZID=Europe/Stockholm:20260406T193000
DTEND;TZID=Europe/Stockholm:20260406T210000
DTSTAMP:20260424T203756
CREATED:20260307T152202Z
LAST-MODIFIED:20260307T152202Z
UID:10001300-1775503800-1775509200@aftonstjarnan.se
SUMMARY:Hönan
DESCRIPTION:En modig höna bryter sig loss från kycklingfabrikens fängelse. Hon rymmer ut i friheten och finner en oväntad tillflykt på gården till en förfallen restaurang på den grekiska landsbygden. \n\nDär\, bland trasiga stolar och såriga relationer\, upptäcker hon inte bara kärleken utan också den hårda hackordningen i verklighetens hönsgård. \nMed en hönas okuvliga instinkt kämpar hon tappert för att skydda sina dyrbara ägg från de giriga människorna. Hennes dråpliga men gripande strävan efter ett eget moderskap utspelar sig mot en bakgrund av människornas kamp\, kompromisser och längtan. Som ett ovetande vittne till de mänskliga tragedierna får hennes lilla resa en oväntat stor och universell kraft.
URL:https://aftonstjarnan.se/event/honan/
LOCATION:Aftonstjärnan\, Plåtslagaregatan 2\, Göteborg\, Sverige
CATEGORIES:Film
ATTACH;FMTTYPE=image/png:https://aftonstjarnan.se/wp-content/uploads/2026/03/Honan-987x555-1.png
END:VEVENT
END:VCALENDAR