BEGIN:VCALENDAR
VERSION:2.0
PRODID:-//Aftonstjärnan - ECPv6.15.20//NONSGML v1.0//EN
CALSCALE:GREGORIAN
METHOD:PUBLISH
X-ORIGINAL-URL:https://aftonstjarnan.se
X-WR-CALDESC:Händelser för Aftonstjärnan
REFRESH-INTERVAL;VALUE=DURATION:PT1H
X-Robots-Tag:noindex
X-PUBLISHED-TTL:PT1H
BEGIN:VTIMEZONE
TZID:Europe/Stockholm
BEGIN:DAYLIGHT
TZOFFSETFROM:+0100
TZOFFSETTO:+0200
TZNAME:CEST
DTSTART:20250330T010000
END:DAYLIGHT
BEGIN:STANDARD
TZOFFSETFROM:+0200
TZOFFSETTO:+0100
TZNAME:CET
DTSTART:20251026T010000
END:STANDARD
BEGIN:DAYLIGHT
TZOFFSETFROM:+0100
TZOFFSETTO:+0200
TZNAME:CEST
DTSTART:20260329T010000
END:DAYLIGHT
BEGIN:STANDARD
TZOFFSETFROM:+0200
TZOFFSETTO:+0100
TZNAME:CET
DTSTART:20261025T010000
END:STANDARD
BEGIN:DAYLIGHT
TZOFFSETFROM:+0100
TZOFFSETTO:+0200
TZNAME:CEST
DTSTART:20270328T010000
END:DAYLIGHT
BEGIN:STANDARD
TZOFFSETFROM:+0200
TZOFFSETTO:+0100
TZNAME:CET
DTSTART:20271031T010000
END:STANDARD
END:VTIMEZONE
BEGIN:VEVENT
DTSTART;TZID=Europe/Stockholm:20260407T193000
DTEND;TZID=Europe/Stockholm:20260407T213000
DTSTAMP:20260424T221245
CREATED:20260307T152346Z
LAST-MODIFIED:20260307T152346Z
UID:10001301-1775590200-1775597400@aftonstjarnan.se
SUMMARY:I Swear
DESCRIPTION:John är en vanlig tonårskille vars tillvaro vänds upp och ner när han plötsligt börjar få tics och häva ur sig ofrivilliga svordomar och könsord. \n\nI åttiotalets Skottland har få hört talas om Tourettes syndrom\, och såväl skolan som Johns familj straffar honom hårt för ett beteende han inte kan kontrollera. Men lyckas man hitta sanna vänner som hellre förstår än fördömer kan problem förvandlas till styrkor! I Swear är en kaxig\, varm och underhållande film inspirerad av den sanna historien om John Davidson\, som fått medalj av drottning Elizabeth för sitt livsverk – att öka förståelsen för alla med Tourettes syndrom.
URL:https://aftonstjarnan.se/event/i-swear/
LOCATION:Aftonstjärnan\, Plåtslagaregatan 2\, Göteborg\, Sverige
CATEGORIES:Film
ATTACH;FMTTYPE=image/png:https://aftonstjarnan.se/wp-content/uploads/2026/03/I-Swear-987x555-1.png
END:VEVENT
END:VCALENDAR