BEGIN:VCALENDAR
VERSION:2.0
PRODID:-//Aftonstjärnan - ECPv6.15.20//NONSGML v1.0//EN
CALSCALE:GREGORIAN
METHOD:PUBLISH
X-ORIGINAL-URL:https://aftonstjarnan.se
X-WR-CALDESC:Händelser för Aftonstjärnan
REFRESH-INTERVAL;VALUE=DURATION:PT1H
X-Robots-Tag:noindex
X-PUBLISHED-TTL:PT1H
BEGIN:VTIMEZONE
TZID:Europe/Stockholm
BEGIN:DAYLIGHT
TZOFFSETFROM:+0100
TZOFFSETTO:+0200
TZNAME:CEST
DTSTART:20250330T010000
END:DAYLIGHT
BEGIN:STANDARD
TZOFFSETFROM:+0200
TZOFFSETTO:+0100
TZNAME:CET
DTSTART:20251026T010000
END:STANDARD
BEGIN:DAYLIGHT
TZOFFSETFROM:+0100
TZOFFSETTO:+0200
TZNAME:CEST
DTSTART:20260329T010000
END:DAYLIGHT
BEGIN:STANDARD
TZOFFSETFROM:+0200
TZOFFSETTO:+0100
TZNAME:CET
DTSTART:20261025T010000
END:STANDARD
BEGIN:DAYLIGHT
TZOFFSETFROM:+0100
TZOFFSETTO:+0200
TZNAME:CEST
DTSTART:20270328T010000
END:DAYLIGHT
BEGIN:STANDARD
TZOFFSETFROM:+0200
TZOFFSETTO:+0100
TZNAME:CET
DTSTART:20271031T010000
END:STANDARD
END:VTIMEZONE
BEGIN:VEVENT
DTSTART;TZID=Europe/Stockholm:20260511T193000
DTEND;TZID=Europe/Stockholm:20260511T213000
DTSTAMP:20260425T202700
CREATED:20260307T154120Z
LAST-MODIFIED:20260307T154120Z
UID:10001313-1778527800-1778535000@aftonstjarnan.se
SUMMARY:Romería
DESCRIPTION:Marina\, 18 år\, reser till Vigo på den spanska atlantkusten för att träffa den familj hon aldrig mött. Det beslut de måste ta är avgörande för hennes framtid. \n\nMen hennes ankomst väcker minnen till liv om ett förflutet som familjen länge försökt glömma. Vägledd av sin döda mors dagböcker börjar Marina pussla ihop de ofta motsägelsefulla minnena av dem hon knappt minns. \nGuldbjörnsvinnaren Carla Simón avslutar sin familjeserie (Sommaren 1993\, En persikolund i Katalonien) med ännu ett hjärtligt och fängslande porträtt av en familjs många berättelser och band.
URL:https://aftonstjarnan.se/event/romeria/
LOCATION:Aftonstjärnan\, Plåtslagaregatan 2\, Göteborg\, Sverige
CATEGORIES:Film
ATTACH;FMTTYPE=image/png:https://aftonstjarnan.se/wp-content/uploads/2026/03/Romeria-987x555-1.png
END:VEVENT
END:VCALENDAR