BEGIN:VCALENDAR
VERSION:2.0
PRODID:-//Aftonstjärnan - ECPv6.15.20//NONSGML v1.0//EN
CALSCALE:GREGORIAN
METHOD:PUBLISH
X-ORIGINAL-URL:https://aftonstjarnan.se
X-WR-CALDESC:Händelser för Aftonstjärnan
REFRESH-INTERVAL;VALUE=DURATION:PT1H
X-Robots-Tag:noindex
X-PUBLISHED-TTL:PT1H
BEGIN:VTIMEZONE
TZID:Europe/Stockholm
BEGIN:DAYLIGHT
TZOFFSETFROM:+0100
TZOFFSETTO:+0200
TZNAME:CEST
DTSTART:20250330T010000
END:DAYLIGHT
BEGIN:STANDARD
TZOFFSETFROM:+0200
TZOFFSETTO:+0100
TZNAME:CET
DTSTART:20251026T010000
END:STANDARD
BEGIN:DAYLIGHT
TZOFFSETFROM:+0100
TZOFFSETTO:+0200
TZNAME:CEST
DTSTART:20260329T010000
END:DAYLIGHT
BEGIN:STANDARD
TZOFFSETFROM:+0200
TZOFFSETTO:+0100
TZNAME:CET
DTSTART:20261025T010000
END:STANDARD
BEGIN:DAYLIGHT
TZOFFSETFROM:+0100
TZOFFSETTO:+0200
TZNAME:CEST
DTSTART:20270328T010000
END:DAYLIGHT
BEGIN:STANDARD
TZOFFSETFROM:+0200
TZOFFSETTO:+0100
TZNAME:CET
DTSTART:20271031T010000
END:STANDARD
END:VTIMEZONE
BEGIN:VEVENT
DTSTART;TZID=Europe/Stockholm:20260221T190000
DTEND;TZID=Europe/Stockholm:20260221T210000
DTSTAMP:20260425T121906
CREATED:20251121T145650Z
LAST-MODIFIED:20260203T122434Z
UID:10001241-1771700400-1771707600@aftonstjarnan.se
SUMMARY:Stumfilm + Livemusik: Körkarlen\, Long shutter noise reduction (DE)
DESCRIPTION:Duon Long Shutter Noise Reduction från Rostock\, Tyskland\, framför sin suggestiva musik live till Victor Sjöströms stumfilmsklassiker Körkarlen (1921)\, baserad på Selma Lagerlöfs roman med samma namn. \nLong Shutter Noise Reduction består av Steffen Kammler (gitarr\, noise\, ambient) The Slöth (gitarr\, drones\, noise) – två tonsättare och ljudkonstnärer som tillsammans bygger upp en atmosfär av närvaro\, mäktighet och något illavarslande… \nRomanen Körkarlen är ett av Selma Lagerlöfs mest ikoniska verk – en gripande berättelse om skuld\, nåd och livets förgänglighet\, där myt och socialrealism vävs samman. I Sjöströms filmatisering gestaltas detta i drömlika bilder\, som här får ett nytt liv genom Long Shutter Noise Reductions musikaliska tolkning. \nVälkommen till en kväll där film\, litteratur och experimentell musik möts i en mycket spännande mix! \nFoto: André Mey
URL:https://aftonstjarnan.se/event/stumfilm-livemusik-korkarlen-long-shutter-noise-reduction-de/
LOCATION:Aftonstjärnan\, Plåtslagaregatan 2\, Göteborg\, Sverige
CATEGORIES:Film,Musik
ATTACH;FMTTYPE=image/png:https://aftonstjarnan.se/wp-content/uploads/2025/11/Hemsida-2.png
ORGANIZER;CN="Aftonstj%C3%A4rnan":MAILTO:info@aftonstjarnan.se
END:VEVENT
END:VCALENDAR