BEGIN:VCALENDAR
VERSION:2.0
PRODID:-//Aftonstjärnan - ECPv6.15.20//NONSGML v1.0//EN
CALSCALE:GREGORIAN
METHOD:PUBLISH
X-WR-CALNAME:Aftonstjärnan
X-ORIGINAL-URL:https://aftonstjarnan.se
X-WR-CALDESC:Händelser för Aftonstjärnan
REFRESH-INTERVAL;VALUE=DURATION:PT1H
X-Robots-Tag:noindex
X-PUBLISHED-TTL:PT1H
BEGIN:VTIMEZONE
TZID:Europe/Stockholm
BEGIN:DAYLIGHT
TZOFFSETFROM:+0100
TZOFFSETTO:+0200
TZNAME:CEST
DTSTART:20250330T010000
END:DAYLIGHT
BEGIN:STANDARD
TZOFFSETFROM:+0200
TZOFFSETTO:+0100
TZNAME:CET
DTSTART:20251026T010000
END:STANDARD
BEGIN:DAYLIGHT
TZOFFSETFROM:+0100
TZOFFSETTO:+0200
TZNAME:CEST
DTSTART:20260329T010000
END:DAYLIGHT
BEGIN:STANDARD
TZOFFSETFROM:+0200
TZOFFSETTO:+0100
TZNAME:CET
DTSTART:20261025T010000
END:STANDARD
BEGIN:DAYLIGHT
TZOFFSETFROM:+0100
TZOFFSETTO:+0200
TZNAME:CEST
DTSTART:20270328T010000
END:DAYLIGHT
BEGIN:STANDARD
TZOFFSETFROM:+0200
TZOFFSETTO:+0100
TZNAME:CET
DTSTART:20271031T010000
END:STANDARD
END:VTIMEZONE
BEGIN:VEVENT
DTSTART;TZID=Europe/Stockholm:20260228T190000
DTEND;TZID=Europe/Stockholm:20260228T210000
DTSTAMP:20260425T001440
CREATED:20251121T155710Z
LAST-MODIFIED:20251121T155710Z
UID:10001255-1772305200-1772312400@aftonstjarnan.se
SUMMARY:Stefan Missios
DESCRIPTION:Göteborgs mest själfulla röst har kallats både predikant och poet\, och när han väl öppnar munnen är det svårt att värja sig. \nDet finns röster och så finns det Stefan Missios. Sedan albumet Och så Gud också exploderade 2019 har han turnerat landet runt och samlat fans som söker något mer än bara underhållning – något som känns. \n»När musiken tillåts pulsera som en åder rakt in i ditt blodomlopp.« Pierre Hellqvist\, Sonic Magazine  \nHan var med och grundade Den Stora Vilan – det psykedeliska rock­kollektivet som fick landets recensenter att slå knut på sig själva av kärlek. \nPå egen hand har han hittat sitt unika uttryck: där svensk visa möter soul\, groove\, gospel och smuts. Alltid med ett slags andlig hetta i botten\, alltid med känslan av att det faktiskt står något på spel. \nUnder 2025 är han tillbaka med nytt material. I videon till As I Surrenderförvandlas en tom teater­salong till en filmisk mardröm. \nVi får se Stefan Missios och bandet i 1700-talskostymer\, ett piano som driver dramat framåt och en skugg­varelse med röda ögon som rör sig i kulisserna. Det är lika mycket skräckfilm som musikvideo. \nHypnotiskt\, vackert\, störigt\, mäktigt – precis som Missios själv.
URL:https://aftonstjarnan.se/event/stefan-missios/
LOCATION:Aftonstjärnan\, Plåtslagaregatan 2\, Göteborg\, Sverige
CATEGORIES:Konsert,Musik
ATTACH;FMTTYPE=image/png:https://aftonstjarnan.se/wp-content/uploads/2025/11/Stefan-Missios-2880x1620-HERO-sans-text-scaled.png
END:VEVENT
END:VCALENDAR