BEGIN:VCALENDAR
VERSION:2.0
PRODID:-//Aftonstjärnan - ECPv6.15.20//NONSGML v1.0//EN
CALSCALE:GREGORIAN
METHOD:PUBLISH
X-ORIGINAL-URL:https://aftonstjarnan.se
X-WR-CALDESC:Händelser för Aftonstjärnan
REFRESH-INTERVAL;VALUE=DURATION:PT1H
X-Robots-Tag:noindex
X-PUBLISHED-TTL:PT1H
BEGIN:VTIMEZONE
TZID:Europe/Stockholm
BEGIN:DAYLIGHT
TZOFFSETFROM:+0100
TZOFFSETTO:+0200
TZNAME:CEST
DTSTART:20250330T010000
END:DAYLIGHT
BEGIN:STANDARD
TZOFFSETFROM:+0200
TZOFFSETTO:+0100
TZNAME:CET
DTSTART:20251026T010000
END:STANDARD
BEGIN:DAYLIGHT
TZOFFSETFROM:+0100
TZOFFSETTO:+0200
TZNAME:CEST
DTSTART:20260329T010000
END:DAYLIGHT
BEGIN:STANDARD
TZOFFSETFROM:+0200
TZOFFSETTO:+0100
TZNAME:CET
DTSTART:20261025T010000
END:STANDARD
BEGIN:DAYLIGHT
TZOFFSETFROM:+0100
TZOFFSETTO:+0200
TZNAME:CEST
DTSTART:20270328T010000
END:DAYLIGHT
BEGIN:STANDARD
TZOFFSETFROM:+0200
TZOFFSETTO:+0100
TZNAME:CET
DTSTART:20271031T010000
END:STANDARD
END:VTIMEZONE
BEGIN:VEVENT
DTSTART;TZID=Europe/Stockholm:20260411T190000
DTEND;TZID=Europe/Stockholm:20260411T210000
DTSTAMP:20260424T131837
CREATED:20251211T095916Z
LAST-MODIFIED:20260409T131413Z
UID:10001280-1775934000-1775941200@aftonstjarnan.se
SUMMARY:Kristina Issa + support: Xenia Kriisin
DESCRIPTION:Med synthar\, bombastiska trummor och en närmast utomjordiskt mäktig röst bjuder Kristina Issa in sin publik till en musikupplevelse som är rå och skör på samma gång\, där lek och intensitet samsas – en konsert fylld av uttrycksfull energi som ger eko långt efter sista tonen klingat ut. \nKristina Issas musik präglas av hennes unika närvaro och explosivitet. Hon hämtar sina drömmiga och catchiga melodier från sitt innersta. Hennes senaste album\, “Barn som ber”\, genomsyras av ett rått och ärligt sound\, där en bred mix av indiepop\, orientaliska influenser och personligt poetiska texter möts. \nSedan sin artistdebut för över tio år sedan har Kristina Issa släppt fyra uppskattade album och etablerat sig som en unik röst i den svenska musikscenen. Issa är en mångsidig musiker som även komponerar musik för radio och teater. Hon har synts i flera TV-sammanhang och samarbetat med kända artister som Sara Parkman och Håkan Hellström. \nPÅ SCEN\nKristina Issa – sång\, piano\nJonathan Albrektson Aaberg – klaviatur och synthar\nSofia Andersson – saxofon och klarinett\nMalte Zeberg – bas och gitarr\nEmil Blommé – trummor \nFoto: Nadim Elazzeh \nSUPPORT: Xenia Kriisin\nXenia Kriisin och Olimpia Dynarek presenterar Högmässa för de heliga och oheliga – ett nyskapande konsertformat där musik\, ritual och samtid möts. Verket bygger på Xenias tidigare musik i ny gestaltning\, tillsammans med nyskrivna psalmer och hymner. \nDetta är mer än en konsert – en ceremoni där det heliga möter det vardagliga\, och där publiken bjuds in till ett gemensamt rum för eftertanke\, motstånd och försoning. Upplevelsen rör sig mellan andlighet\, poesi och musikalisk närvaro och utmanar gränserna mellan konsert\, liturgi och performance. \nKolla in Xenia och Olimpia här:\nInstagram: https://www.instagram.com/xeniakriisin/?hl=sv \, https://www.instagram.com/olimpiadynarek/
URL:https://aftonstjarnan.se/event/kristina-issa/
LOCATION:Aftonstjärnan\, Plåtslagaregatan 2\, Göteborg\, Sverige
CATEGORIES:Konsert,Musik
ATTACH;FMTTYPE=image/png:https://aftonstjarnan.se/wp-content/uploads/2025/12/Issa-Xenia.png
ORGANIZER;CN="Aftonstj%C3%A4rnan":MAILTO:info@aftonstjarnan.se
END:VEVENT
END:VCALENDAR